BEGIN:VCALENDAR
VERSION:2.0
PRODID:-//wp-events-plugin.com//7.2.2.1//EN
BEGIN:VEVENT
UID:8@jcci.co.za
DTSTART:20231208T000000Z
DTEND:20231208T000000Z
DTSTAMP:20240124T080940Z
URL:https://www.jcci.co.za/events/sme-exhibition-writeup/
SUMMARY:SME Exhibition
DESCRIPTION:Not only was it the first of its kind\, but its success has led
  us to decide on hosting it annually.\nEvent Highlights\n\n 	Participation
 : A total of 80 companies from diverse multisectoral backgrounds actively 
 participated in the exhibition.\n\nObjectives and Purpose\nThe primary pur
 pose of the exhibition was to provide SMEs with a platform to:\n\n 	Build 
 Credibility: Showcase their brands and establish credibility in their resp
 ective industries.\n 	Generate Buzz: Create a positive buzz around the pro
 ducts and services offered by SMEs.\n 	Product Showcase: Highlight service
 s and products that SMEs are eager to launch.\n 	Market Traction: Establis
 h market linkages and gain traction within their target markets.\n 	Client
  Base: Increase their client base by reaching out to potential customers.\
 n 	Networking Opportunities: Enable SMEs to network not only with potentia
 l clients but also among themselves\, fostering collaboration and partners
 hips.\n\nThe success of the exhibition reflects the vibrant and dynamic la
 ndscape of our SME community. We look forward to making this an annual tra
 dition\, further supporting and promoting the growth of small and medium-s
 ized enterprises.
CATEGORIES:Events,Key Events
LOCATION:JCCI House\, 7th Floor JCC House  Empire Road Milpark\, Johannesbu
 rg\, Gauteng\, South Africa
X-APPLE-STRUCTURED-LOCATION;VALUE=URI;X-ADDRESS=7th Floor JCC House  Empire
  Road Milpark\, Johannesburg\, Gauteng\, South Africa;X-APPLE-RADIUS=100;X
 -TITLE=JCCI House:geo:0,0
END:VEVENT
END:VCALENDAR