BEGIN:VCALENDAR
VERSION:2.0
PRODID:-//wp-events-plugin.com//7.2.2.1//EN
BEGIN:VEVENT
UID:14@jcci.co.za
DTSTART:20240326T090000Z
DTEND:20240326T160000Z
DTSTAMP:20240305T082841Z
URL:https://www.jcci.co.za/events/public-invite-to-the-sme-market-day-at-t
 he-jhb-zoo/
SUMMARY:Public invite to the SME Market Day at the JHB Zoo
DESCRIPTION:
CATEGORIES:Events
END:VEVENT
END:VCALENDAR