BEGIN:VCALENDAR
VERSION:2.0
PRODID:-//wp-events-plugin.com//7.2.2.1//EN
BEGIN:VEVENT
UID:5@jcci.co.za
DTSTART:20240207T090000Z
DTEND:20240207T160000Z
DTSTAMP:20240119T042355Z
URL:https://www.jcci.co.za/events/marine-insurance-2-day-virtual-training-
 7th-and-8th-february-2024/
SUMMARY:MARINE INSURANCE 2 DAY VIRTUAL TRAINING 7TH AND 8TH FEBRUARY 2024
DESCRIPTION:THE ESSENTIAL QUALIFICATION FOR THE BASIC PRINCIPLES OF MARINE 
 INSURANCE &amp\; LEGAL PRINCIPLES APPLICABLE TO SHIPPING\n&nbsp\;\n\nThis 
 comprehensive course delves into the intricacies of Marine Cargo Insurance
 \, providing you with a thorough understanding of the claims process\, ade
 pt interpretation of insurance terms\, and the skills to evaluate insuranc
 e contracts tailored to your specific needs.\n\nMAIN TOPICS       
   \n\nGeneral Legal Principles used inShipping Common Law Defined\n\nCiv
 il vs.Criminal Courts\n\nArbitration in Dispute Resolution &amp\; Mitigati
 on Indemnities\n\nLegal Terms used for Marine Insurance.The need for Cargo
  Insurance\n\nLaw of Carriage\n\nCargoSafety and Security Insurance claims
 \n\nCalculating Insurance Values &amp\; PremiumsTypes of Marine Insurance 
 Policies\n\nAreas of investigation:Quality\,Adequate &amp\; Insurance Shor
 tfalls\n\n&nbsp\;\n\nSimulated Assessments\n\n 	Notice of an Insurance Cla
 im\n 	Drafting a Proforma insurance Claim\n 	Presenting a Final Priced Cl
 aim\n\nWHEN:           07th and 8th February  2024 ( ONLINE )
 \n\nTIME:             09:00-16:00\n\nHOW MUCH:  R2500.00 memb
 ers\, R3000.00 non-members (including VAT)\n\nREPLY SLIP\n\nFirst &amp\; S
 urname: ______________________________________________________\n\nCompany:
  ___________________________________________________________\n\nPostal Add
 ress: ___________________________________________Code_______\n\nTel:______
 _______________  e-mail address: _____________________________ Company 
 VAT No. _______________________\n\n&nbsp\;\n\nChamber’s Bank Details: JC
 CI - STD BANK- BRAAMFONTEIN–BRANCH CODE 004805–ACC NO: 0033 42530(e-ma
 il POP to Anthea Booysen)\n\n&nbsp\;
CATEGORIES:Events
LOCATION:JCCI House\, 7th Floor JCC House  Empire Road Milpark\, Johannesbu
 rg\, Gauteng\, South Africa
X-APPLE-STRUCTURED-LOCATION;VALUE=URI;X-ADDRESS=7th Floor JCC House  Empire
  Road Milpark\, Johannesburg\, Gauteng\, South Africa;X-APPLE-RADIUS=100;X
 -TITLE=JCCI House:geo:0,0
END:VEVENT
END:VCALENDAR