BEGIN:VCALENDAR
VERSION:2.0
PRODID:-//wp-events-plugin.com//7.2.2.1//EN
BEGIN:VEVENT
UID:7@jcci.co.za
DTSTART:20240110T021500Z
DTEND:20240110T074500Z
DTSTAMP:20240119T045316Z
URL:https://www.jcci.co.za/events/incoterms-2020-for-african-global-trade-
 practitioners-february-2024/
SUMMARY:INCOTERMS® 2020 FOR AFRICAN & GLOBAL TRADE PRACTITIONERS FEBRUARY 
 2024
DESCRIPTION:
CATEGORIES:Events
END:VEVENT
END:VCALENDAR