BEGIN:VCALENDAR
VERSION:2.0
PRODID:-//wp-events-plugin.com//7.2.2.1//EN
BEGIN:VEVENT
UID:10@jcci.co.za
DTSTART:20240212T090000Z
DTEND:20240212T153000Z
DTSTAMP:20240131T142359Z
URL:https://www.jcci.co.za/events/incoterms-2020-for-african-global-trade-
 practitioners-february-2024-2/
SUMMARY:INCOTERMS® 2020 FOR AFRICAN & GLOBAL TRADE PRACTITIONERS FEBRUARY 
 2024
DESCRIPTION:Trade into within and out of Africa is going to be different p
 ost Covid -19. There will be opportunities and traps! Incoterms® 2020 def
 ine the seller’s and buyer’s obligations\, risks and costs in trade co
 ntracts. Learn about these rules and their application from global and Afr
 ican experts.\n\n 	What the Incoterms Rules Do?\n 	What the Incoterms Rule
 s do NOT do?\n 	How best to incorporate the Incoterms Rules?\n 	Delivery\,
  Risks and Costs in Incoterms Rules?\n 	Incoterms Rules and the Carrier?\n
  	Rules for the Contract of Sale and their relationship to other contracts
 ?\n 	The 11 Incoterms 2020 Rules – “Sea and Inland Waterway”\, and 
 “Any Mode of Transport” – getting it right!\n 	Order within the Inco
 terms Rules?\n 	Differences between Incoterms® 2010 and 2020?\n 	Caution 
 with variants of Incoterms Rules?\n\nFor more information or to register g
 o to: www.jcci.co.za\n\nWHEN:           Monday 12 February 2024
 \n\nWHERE:        27 Owl street\, cnr Empire road\, Milpark next t
 o Garden Court Hotel\n\nTIME:             09:00-15:30\n\nHOW M
 UCH:  R885.00.00 members\, R1263.00 non-members (including VAT)\n\nFirst 
 &amp\; Surname: ______________________________________________________\n\n
 Company: ___________________________________________________________\n\nPo
 stal Address: ___________________________________________Code_______\n\nTe
 l:_____________________  e-mail address: _____________________________\n\
 nCompany VAT No. _______________________\n\nChamber’s Bank Details: JCCI
  - STD BANK- BRAAMFONTEIN–BRANCH CODE 004805–ACC NO: 0033 42530(e-mail
  POP to Anthea Booysen)
CATEGORIES:Events
LOCATION:JCCI House\, 7th Floor JCC House  Empire Road Milpark\, Johannesbu
 rg\, Gauteng\, South Africa
X-APPLE-STRUCTURED-LOCATION;VALUE=URI;X-ADDRESS=7th Floor JCC House  Empire
  Road Milpark\, Johannesburg\, Gauteng\, South Africa;X-APPLE-RADIUS=100;X
 -TITLE=JCCI House:geo:0,0
END:VEVENT
END:VCALENDAR