BEGIN:VCALENDAR
VERSION:2.0
PRODID:-//wp-events-plugin.com//7.2.2.1//EN
BEGIN:VEVENT
UID:6@jcci.co.za
DTSTART:20240212T090000Z
DTEND:20240212T153000Z
DTSTAMP:20240119T055503Z
URL:https://www.jcci.co.za/events/export-management-5-day-certificate-cour
 se-february-2024/
SUMMARY:EXPORT MANAGEMENT 5 DAY CERTIFICATE COURSE FEBRUARY 2024
DESCRIPTION:THE ESSENTIAL QUALIFICATION FOR SUCCESSFUL EXPORTING SINCE 1987
  \n\nIn these tough economic times exporting successfully is a challenging
  endeavor\, but one that is crucial for diversifying a company’s bottom 
 line.  Since 1989 the Chamber’s Export course has been the benchmark for
  export training.  The content is comprehensive and constantly updated to 
 reflect the latest information and requirements from the International Cha
 mber of Commerce. Thousands of students have acquired the knowledge and sk
 ills to manage the complexities involved in exporting to help their compan
 ies succeed in international markets.  \n\nPRESENTED BY:Rialgo Barnard who
  is a seasoned professional in the field of international trade\, specific
 ally spanning all the key areas of Customs Compliance and global supply ch
 ain management. \n\nRialgo has created the very first Customs accepted cle
 arings system for the employer\, which was decommissioned in 2000 only. In
  1995 he moved to agency I.t.o Freight Forwarding\, Customs Clearing\, Log
 istics\, Ship's agency\, and exited that specific part of the industry In 
 2008 as a C & F Agent\, Rialgo developed many IT support systems working i
 n conjunction with clearing and logistics programs\, including other IT sy
 stems used as value adds for his clients in 2009 to current he moved into 
 the field of international supply chain and customs education as a facilit
 ators skill development & instructional designer\, and was the author of m
 any learner/ study guides and assessments\, which are still in use today. 
 Rialgo also took on the roles as international SCM consultant and speciali
 zing specifically in international logistics\, warehousing (application & 
 systems) and Customs consulting. \n\n \n\nBOOKINGS: Anthea Booysen Tel: 72
 6-5300 -2000 \nWHERE: 27 Owl Street\, cnr Empire road\, JCC building\, Mil
 park 7th floor.   \nTIME: 09.00-15.30       \n\nHOW MUCH: R 5140.00 member
 s\, R 6410.00 non-members\n\nWHEN:  12-16 February 2024\n\n \n\nIN-HOUSE T
 RAINING ON REQUEST  \n\n \n 	\nREPLY   SLIP: 5-day Export Course:     12-1
 6 February 2024                 \nFirst & Surname:________________________
 _______________________________________________________\n\nCompany:_______
 __________________________________________________________________________
 ___\n\nPostal Address:____________________________________________________
 ____Code:___________________\n\nTel No:_____________________Fax:__________
 __________________________Contact:___________________\n\nCompany VAT NO. _
 ______________________\n\n \n\nBANK DETAILS: JCCI - STD BANK- BRAAMFONTEIN
 –BRANCH CODE 004805– ACC NO: 0033 42530\ne-mail POP to anthea@jcci.co.
 za
CATEGORIES:Events
LOCATION:JCCI House\, 7th Floor JCC House  Empire Road Milpark\, Johannesbu
 rg\, Gauteng\, South Africa
X-APPLE-STRUCTURED-LOCATION;VALUE=URI;X-ADDRESS=7th Floor JCC House  Empire
  Road Milpark\, Johannesburg\, Gauteng\, South Africa;X-APPLE-RADIUS=100;X
 -TITLE=JCCI House:geo:0,0
END:VEVENT
END:VCALENDAR