BEGIN:VCALENDAR
VERSION:2.0
PRODID:-//wp-events-plugin.com//7.2.2.1//EN
BEGIN:VEVENT
UID:4@jcci.co.za
DTSTART:20240207T103000Z
DTEND:20240207T130000Z
DTSTAMP:20240118T171631Z
URL:https://www.jcci.co.za/events/doing-business-with-india/
SUMMARY:Doing Business with India
DESCRIPTION:
CATEGORIES:Events
LOCATION:JCCI House\, 7th Floor JCC House  Empire Road Milpark\, Johannesbu
 rg\, Gauteng\, South Africa
X-APPLE-STRUCTURED-LOCATION;VALUE=URI;X-ADDRESS=7th Floor JCC House  Empire
  Road Milpark\, Johannesburg\, Gauteng\, South Africa;X-APPLE-RADIUS=100;X
 -TITLE=JCCI House:geo:0,0
END:VEVENT
END:VCALENDAR