BEGIN:VCALENDAR
VERSION:2.0
PRODID:-//wp-events-plugin.com//7.2.2.1//EN
BEGIN:VEVENT
UID:176@jcci.co.za
DTSTART:20260428T100000Z
DTEND:20260428T100000Z
DTSTAMP:20260420T073959Z
URL:https://www.jcci.co.za/events/cyber-security-and-awareness-session-2/
SUMMARY:CYBER SECURITY AND AWARENESS SESSION
DESCRIPTION:
CATEGORIES:Events,Upcoming Events
END:VEVENT
END:VCALENDAR