BEGIN:VCALENDAR
VERSION:2.0
PRODID:-//wp-events-plugin.com//7.2.2.1//EN
BEGIN:VEVENT
UID:15@jcci.co.za
DTSTART:20240415T090000Z
DTEND:20240419T163000Z
DTSTAMP:20240325T123742Z
URL:https://www.jcci.co.za/events/customs-competency-compliance-5-day-cert
 ificate-course-april-2024/
SUMMARY:CUSTOMS COMPETENCY & COMPLIANCE  5 DAY CERTIFICATE COURSE – APRIL
  2024
DESCRIPTION:TOPICS TO BE COVERED \n\n 	WCO SAFE framework\, AEO and Rules 
 of Origin\n 	The Customs Act\, Including SEZ &amp\; CCAE Defined\n 	Custom
 s HS Tariff Classification Nomenclature\n 	Customs Values vs. ICC Incoterm
 s (Shipping Terms)\n 	Customs Compliance Audits (Essential Internal Audits
 )\n\nVENUE:                       7TH Floor\, JCCI H
 OUSE\, Empire Road\, Milpark\nDATES:                   
     15-19 April 2024            \n\nTIME:           
                09H00 – 17H00 (Registration on day 1 – 08
 H30)\nBOOKINGS:               Anthea Booysen ON TEL: (011) 7
 26 5300 anthea@jcci.co.za\nHOW MUCH:              R5140.00 F
 OR MEMBERS\n                                    R6410.00
  FOR NON-MEMBERS\n\nCultivating Successful Customs Managers and Employees\
 nMAIN COURSE OUTLINE / OBJECTIVES\nIn these tough economic times\, you hav
 e the opportunity to reduce international customs and trade compliance cos
 ts by empowering your key staff members by ensuring that they do not only 
 know the theoretical but have also been exposed to the practical scenarios
  acquiring the knowledge to succeed in International markets. Since 1989 t
 he Chamber’s course has been the benchmark for Customs training. The con
 tent is comprehensive and constantly updated to reflect the latest informa
 tion and requirements from the International Chamber of Commerce. 
CATEGORIES:Events
LOCATION:JCC House\, 27 Owl Street cnr Empire Road\, Milpark\, Johanessburg
 \, South Africa\, 2006\, South Africa
X-APPLE-STRUCTURED-LOCATION;VALUE=URI;X-ADDRESS=27 Owl Street cnr Empire Ro
 ad\, Milpark\, Johanessburg\, South Africa\, 2006\, South Africa;X-APPLE-R
 ADIUS=100;X-TITLE=JCC House:geo:0,0
END:VEVENT
END:VCALENDAR