BEGIN:VCALENDAR
VERSION:2.0
PRODID:-//wp-events-plugin.com//7.2.2.1//EN
BEGIN:VEVENT
UID:16@jcci.co.za
DTSTART:20240403T083000Z
DTEND:20240403T110000Z
DTSTAMP:20240306T114350Z
URL:https://www.jcci.co.za/events/2024-immigration-scene-business-breakfas
 t/
SUMMARY:2024 Immigration Scene Business Breakfast
DESCRIPTION:
CATEGORIES:Events
END:VEVENT
END:VCALENDAR